BEGIN:VCALENDAR
VERSION:2.0
PRODID:DPCALENDAR
CALSCALE:GREGORIAN
BEGIN:VTIMEZONE
TZID:UTC
X-MICROSOFT-CDO-TZID:0
END:VTIMEZONE
X-WR-TIMEZONE:UTC
BEGIN:VEVENT
DTSTART;TZID=UTC:20180106T110000
DTEND;TZID=UTC:20180106T120000
UID:B302F00D-94CF-43D5-87D8-45388DF70B13
SUMMARY:Antrim International Cross Country & Celtic Cross Country
DTSTAMP:20171002T133638Z
DESCRIPTION:
X-ALT-DESC;FMTTYPE=text/html:
LOCATION:11-17 Greenmount Road\, Muckamore\, Northern Ireland\, United Kingdom
GEO:54.69622360;-6.21102370
LAST-MODIFIED:20171002T133804Z
X-ACCESS:1
X-HITS:60
X-URL:
X-COLOR:7F0FFF
END:VEVENT
END:VCALENDAR