BEGIN:VCALENDAR
VERSION:2.0
PRODID:DPCALENDAR
CALSCALE:GREGORIAN
BEGIN:VTIMEZONE
TZID:UTC
X-MICROSOFT-CDO-TZID:0
END:VTIMEZONE
X-WR-TIMEZONE:UTC
BEGIN:VEVENT
DTSTART;TZID=UTC:20171210T130000
DTEND;TZID=UTC:20171210T140000
UID:4370200A-5244-4202-801E-688B5D03BCB0
SUMMARY:European Cross Country Champoionships
DTSTAMP:20171002T132626Z
DESCRIPTION:
X-ALT-DESC;FMTTYPE=text/html:
LOCATION:Commons Road\, Navan\, County Meath\, Ireland
GEO:53.64474790;-6.69998310
LAST-MODIFIED:20171002T132731Z
X-ACCESS:1
X-HITS:80
X-URL:
X-COLOR:7F0FFF
END:VEVENT
END:VCALENDAR