BEGIN:VCALENDAR
VERSION:2.0
PRODID:DPCALENDAR
CALSCALE:GREGORIAN
BEGIN:VTIMEZONE
TZID:UTC
X-MICROSOFT-CDO-TZID:0
END:VTIMEZONE
X-WR-TIMEZONE:UTC
BEGIN:VEVENT
DTSTART;TZID=UTC:20171112T113000
DTEND;TZID=UTC:20171112T123000
UID:9B7DE2FE-0DC2-4A04-A490-B4D9DD752F60
SUMMARY:Leinster UnEven Age & Senior Cross Country Championships
DTSTAMP:20161014T090928Z
DESCRIPTION:Venue TBC
X-ALT-DESC;FMTTYPE=text/html:<p>Venue TBC</p>
LOCATION:Commons Road\, Navan\, County Meath\, Ireland
GEO:53.64474790;-6.69998310
LAST-MODIFIED:20171002T131436Z
X-ACCESS:1
X-HITS:325
X-URL:http://www.athleticsleinster.org
X-COLOR:215FC7
END:VEVENT
END:VCALENDAR