BEGIN:VCALENDAR
VERSION:2.0
PRODID:DPCALENDAR
CALSCALE:GREGORIAN
BEGIN:VTIMEZONE
TZID:UTC
X-MICROSOFT-CDO-TZID:0
END:VTIMEZONE
X-WR-TIMEZONE:UTC
BEGIN:VEVENT
DTSTART;TZID=UTC:20171210T110000
DTEND;TZID=UTC:20171210T120000
UID:F2DE401A-7560-4C7A-BAA6-8D0E597EEF10
SUMMARY:Meath Intermediate Championships & Juvenile Cross Country League Day 3
DTSTAMP:20160928T113941Z
DESCRIPTION:\N\N\N\N\N\N\NChampionships Distances\N\N\NFemale\NCategory\NMale\N\N\N4,000m\NIntermediate\N8,000m\N\N\N\NJuvenile League Distances\N\N\N\NCategory\NDistance\N\N\NU09\N600m\N\N\NU11\N800m\N\N\NU13\N1,000m\N\N\NU15\N2,000m\N\N\NU17\N3,000m\N\N\N\N \N \N 
X-ALT-DESC;FMTTYPE=text/html:<table style="width: 202pt; border-collapse: collapse;" border="0" width="270" cellspacing="0" cellpadding="0"><tbody><tr style="height: 18pt;"><td style="border: 1pt solid #b3cc82; width: 202pt; height: 18pt; background-color: #9bbb59;" colspan="2" width="270" height="24"><table style="width: 207pt; border-collapse: collapse;" border="0" width="276" cellspacing="0" cellpadding="0"><tbody><tr style="height: 18pt;"><td style="border: 1pt solid #b3cc82; width: 207pt; height: 18pt; background-color: #9bbb59;" colspan="3" width="276" height="24"><strong><span style="color: #595959; font-family: Arial; font-size: medium;">Championships Distances</span></strong></td></tr><tr style="height: 16.2pt;"><td style="border-width: 0px 0px 1pt 1pt; border-style: none none solid solid; border-color: #333333 #333333 #b3cc82 #b3cc82; width: 69pt; height: 16.2pt; background-color: #e6eed5;" width="92" height="22"><span style="font-family: Times New Roman; font-size: medium;"><strong>Female</strong></span></td><td style="border-width: 0px 0px 1pt; border-style: none none solid; border-color: #333333 #333333 #b3cc82; width: 69pt; background-color: #e6eed5;" width="92"><span style="font-family: Times New Roman; font-size: medium;"><strong>Category</strong></span></td><td style="border-width: 0px 1pt 1pt 0px; border-style: none solid solid none; border-color: #333333 #b3cc82 #b3cc82 #333333; width: 69pt; background-color: #e6eed5;" width="92"><span style="font-family: Times New Roman; font-size: medium;"><strong>Male</strong></span></td></tr><tr style="height: 16.2pt;"><td style="border-width: 0px 0px 1pt 1pt; border-style: none none solid solid; border-color: #333333 #333333 #b3cc82 #b3cc82; width: 69pt; height: 16.2pt; background-color: #e6eed5;" width="92" height="22"><span style="font-family: Times New Roman; font-size: medium;">4,000m</span></td><td style="border-width: 0px 0px 1pt; border-style: none none solid; border-color: #333333 #333333 #b3cc82; width: 69pt; background-color: #e6eed5;" width="92"><span style="font-family: Times New Roman; font-size: medium;">Intermediate</span></td><td style="border-width: 0px 1pt 1pt 0px; border-style: none solid solid none; border-color: #333333 #b3cc82 #b3cc82 #333333; width: 69pt; background-color: #e6eed5;" width="92"><span style="font-family: Times New Roman; font-size: medium;">8,000m</span></td></tr></tbody></table><p><strong><span style="color: #595959; font-family: Times New Roman; font-size: large;">J</span><span style="color: #595959; font-family: Arial; font-size: medium;">uvenile League Distances</span></strong></p></td></tr><tr style="height: 16.2pt;"><td style="border-width: 0px 0px 1pt 1pt; border-style: none none solid solid; border-color: #333333 #333333 #b3cc82 #b3cc82; width: 101pt; height: 16.2pt; background-color: #e6eed5;" width="135" height="22"><span style="font-family: Times New Roman; font-size: medium;"><strong>Category</strong></span></td><td style="border-width: 0px 1pt 1pt 0px; border-style: none solid solid none; border-color: #333333 #b3cc82 #b3cc82 #333333; width: 101pt; background-color: #e6eed5;" width="135"><span style="font-family: Times New Roman; font-size: medium;"><strong>Distance</strong></span></td></tr><tr style="height: 16.2pt;"><td style="border-width: 0px 0px 1pt 1pt; border-style: none none solid solid; border-color: #333333 #333333 #b3cc82 #b3cc82; width: 101pt; height: 16.2pt; background-color: transparent;" width="135" height="22"><span style="font-family: Times New Roman; font-size: medium;">U09</span></td><td style="border-width: 0px 1pt 1pt 0px; border-style: none solid solid none; border-color: #333333 #b3cc82 #b3cc82 #333333; width: 101pt; background-color: transparent;" width="135"><span style="font-family: Times New Roman; font-size: medium;">600m</span></td></tr><tr style="height: 16.2pt;"><td style="border-width: 0px 0px 1pt 1pt; border-style: none none solid solid; border-color: #333333 #333333 #b3cc82 #b3cc82; width: 101pt; height: 16.2pt; background-color: #e6eed5;" width="135" height="22"><span style="font-family: Times New Roman; font-size: medium;">U11</span></td><td style="border-width: 0px 1pt 1pt 0px; border-style: none solid solid none; border-color: #333333 #b3cc82 #b3cc82 #333333; width: 101pt; background-color: #e6eed5;" width="135"><span style="font-family: Times New Roman; font-size: medium;">800m</span></td></tr><tr style="height: 16.2pt;"><td style="border-width: 0px 0px 1pt 1pt; border-style: none none solid solid; border-color: #333333 #333333 #b3cc82 #b3cc82; width: 101pt; height: 16.2pt; background-color: transparent;" width="135" height="22"><span style="font-family: Times New Roman; font-size: medium;">U13</span></td><td style="border-width: 0px 1pt 1pt 0px; border-style: none solid solid none; border-color: #333333 #b3cc82 #b3cc82 #333333; width: 101pt; background-color: transparent;" width="135"><span style="font-family: Times New Roman; font-size: medium;">1,000m</span></td></tr><tr style="height: 16.2pt;"><td style="border-width: 0px 0px 1pt 1pt; border-style: none none solid solid; border-color: #333333 #333333 #b3cc82 #b3cc82; width: 101pt; height: 16.2pt; background-color: #e6eed5;" width="135" height="22"><span style="font-family: Times New Roman; font-size: medium;">U15</span></td><td style="border-width: 0px 1pt 1pt 0px; border-style: none solid solid none; border-color: #333333 #b3cc82 #b3cc82 #333333; width: 101pt; background-color: #e6eed5;" width="135"><span style="font-family: Times New Roman; font-size: medium;">2,000m</span></td></tr><tr style="height: 16.2pt;"><td style="border-width: 0px 0px 1pt 1pt; border-style: none none solid solid; border-color: #333333 #333333 #b3cc82 #b3cc82; width: 101pt; height: 16.2pt; background-color: transparent;" width="135" height="22"><span style="font-family: Times New Roman; font-size: medium;">U17</span></td><td style="border-width: 0px 1pt 1pt 0px; border-style: none solid solid none; border-color: #333333 #b3cc82 #b3cc82 #333333; width: 101pt; background-color: transparent;" width="135"><span style="font-family: Times New Roman; font-size: medium;">3,000m</span></td></tr></tbody></table><p> </p><p style="text-align: center;"> </p><p> </p>
LOCATION:Unnamed Road\, County Meath\, Ireland
GEO:53.65242490;-6.78358220
LAST-MODIFIED:20171002T133834Z
X-ACCESS:1
X-HITS:1548
X-URL:
X-COLOR:247D24
END:VEVENT
END:VCALENDAR