BEGIN:VCALENDAR
VERSION:2.0
PRODID:DPCALENDAR
CALSCALE:GREGORIAN
BEGIN:VTIMEZONE
TZID:UTC
X-MICROSOFT-CDO-TZID:0
END:VTIMEZONE
X-WR-TIMEZONE:UTC
BEGIN:VEVENT
DTSTART;TZID=UTC:20171203T120000
DTEND;TZID=UTC:20171203T130000
UID:F2DE401A-7560-4C7A-BAA6-8D0E597EEF10
SUMMARY:Meath Juvenile Cross Country League Day 2
DTSTAMP:20160928T113941Z
DESCRIPTION:\N\N\N\NBaconstown GAA , Enfield\NJuvenile League Distances\N\N\N\NCategory\NDistance\N\N\NU09\N600m\N\N\NU11\N800m\N\N\NU13\N1,000m\N\N\NU15\N2,000m\N\N\NU17\N3,000m\N\N\N\N\NDay 1 5th November\NDay 2 3th December\NDay 3 10th December \N\N \N 
X-ALT-DESC;FMTTYPE=text/html:<table style="width: 202pt; border-collapse: collapse;" border="0" width="270" cellspacing="0" cellpadding="0"><tbody><tr style="height: 18pt;"><td style="border: 1pt solid #b3cc82; width: 202pt; height: 18pt; background-color: #9bbb59;" colspan="2" width="270" height="24"><p style="text-align: center;"><strong><span style="color: #595959; font-family: Times New Roman; font-size: large;">Baconstown GAA , Enfield</span></strong></p><p style="text-align: center;"><span style="color: #595959; font-family: Times New Roman; font-size: large;">J</span><span style="color: #595959; font-family: Arial; font-size: medium;">uvenile League Distances</span></p></td></tr><tr style="height: 16.2pt;"><td style="border-width: 0px 0px 1pt 1pt; border-style: none none solid solid; border-color: #333333 #333333 #b3cc82 #b3cc82; width: 101pt; height: 16.2pt; background-color: #e6eed5;" width="135" height="22"><span style="font-family: Times New Roman; font-size: medium;"><strong>Category</strong></span></td><td style="border-width: 0px 1pt 1pt 0px; border-style: none solid solid none; border-color: #333333 #b3cc82 #b3cc82 #333333; width: 101pt; background-color: #e6eed5;" width="135"><span style="font-family: Times New Roman; font-size: medium;"><strong>Distance</strong></span></td></tr><tr style="height: 16.2pt;"><td style="border-width: 0px 0px 1pt 1pt; border-style: none none solid solid; border-color: #333333 #333333 #b3cc82 #b3cc82; width: 101pt; height: 16.2pt; background-color: transparent;" width="135" height="22"><span style="font-family: Times New Roman; font-size: medium;">U09</span></td><td style="border-width: 0px 1pt 1pt 0px; border-style: none solid solid none; border-color: #333333 #b3cc82 #b3cc82 #333333; width: 101pt; background-color: transparent;" width="135"><span style="font-family: Times New Roman; font-size: medium;">600m</span></td></tr><tr style="height: 16.2pt;"><td style="border-width: 0px 0px 1pt 1pt; border-style: none none solid solid; border-color: #333333 #333333 #b3cc82 #b3cc82; width: 101pt; height: 16.2pt; background-color: #e6eed5;" width="135" height="22"><span style="font-family: Times New Roman; font-size: medium;">U11</span></td><td style="border-width: 0px 1pt 1pt 0px; border-style: none solid solid none; border-color: #333333 #b3cc82 #b3cc82 #333333; width: 101pt; background-color: #e6eed5;" width="135"><span style="font-family: Times New Roman; font-size: medium;">800m</span></td></tr><tr style="height: 16.2pt;"><td style="border-width: 0px 0px 1pt 1pt; border-style: none none solid solid; border-color: #333333 #333333 #b3cc82 #b3cc82; width: 101pt; height: 16.2pt; background-color: transparent;" width="135" height="22"><span style="font-family: Times New Roman; font-size: medium;">U13</span></td><td style="border-width: 0px 1pt 1pt 0px; border-style: none solid solid none; border-color: #333333 #b3cc82 #b3cc82 #333333; width: 101pt; background-color: transparent;" width="135"><span style="font-family: Times New Roman; font-size: medium;">1,000m</span></td></tr><tr style="height: 16.2pt;"><td style="border-width: 0px 0px 1pt 1pt; border-style: none none solid solid; border-color: #333333 #333333 #b3cc82 #b3cc82; width: 101pt; height: 16.2pt; background-color: #e6eed5;" width="135" height="22"><span style="font-family: Times New Roman; font-size: medium;">U15</span></td><td style="border-width: 0px 1pt 1pt 0px; border-style: none solid solid none; border-color: #333333 #b3cc82 #b3cc82 #333333; width: 101pt; background-color: #e6eed5;" width="135"><span style="font-family: Times New Roman; font-size: medium;">2,000m</span></td></tr><tr style="height: 16.2pt;"><td style="border-width: 0px 0px 1pt 1pt; border-style: none none solid solid; border-color: #333333 #333333 #b3cc82 #b3cc82; width: 101pt; height: 16.2pt; background-color: transparent;" width="135" height="22"><span style="font-family: Times New Roman; font-size: medium;">U17</span></td><td style="border-width: 0px 1pt 1pt 0px; border-style: none solid solid none; border-color: #333333 #b3cc82 #b3cc82 #333333; width: 101pt; background-color: transparent;" width="135"><span style="font-family: Times New Roman; font-size: medium;">3,000m</span></td></tr></tbody></table><ul><li>Day 1 5th November</li><li>Day 2 3th December</li><li>Day 3 10th December<a title="Learn More" href="http://www.cillesac.ie" target="_blank" rel="noopener noreferrer"> </a></li></ul><p style="text-align: center;"> </p><p> </p>
LOCATION:R159\, County Meath\, Ireland
GEO:53.44847470;-6.80556400
LAST-MODIFIED:20171002T131625Z
X-ACCESS:1
X-HITS:1469
X-URL:http://www.meathathletics.ie
X-COLOR:247D24
END:VEVENT
END:VCALENDAR