BEGIN:VCALENDAR
VERSION:2.0
PRODID:DPCALENDAR
CALSCALE:GREGORIAN
BEGIN:VTIMEZONE
TZID:UTC
X-MICROSOFT-CDO-TZID:0
END:VTIMEZONE
X-WR-TIMEZONE:UTC
BEGIN:VEVENT
DTSTART;TZID=UTC:20171105T110000
DTEND;TZID=UTC:20171105T130000
UID:F2DE401A-7560-4C7A-BAA6-8D0E597EEF10
SUMMARY:Meath Senior Championships & Juvenile Cross Country League Day 1
DTSTAMP:20160928T113941Z
DESCRIPTION:\N11am Senior Ladies 4000m \NFollowed by Senior Men 8000m\NRegister through your club,\N \NJuvenile Cross Country League 12pm\N \N\N \N \N\N\N\N\NPorchfields Trim 12pm\NJuvenile League Distances\N\N\N\NCategory\NDistance\N\N\NU09\N600m\N\N\NU11\N800m\N\N\NU13\N1,000m\N\N\NU15\N2,000m\N\N\NU17\N3,000m\N\N\N
X-ALT-DESC;FMTTYPE=text/html:<div id="id_5819e09e7536c4c74738694" class="text_exposed_root text_exposed"><p>11am Senior Ladies 4000m </p><p>Followed by Senior Men 8000m</p><p>Register through your club,</p><p> </p><p>Juvenile Cross Country League 12pm</p><p> </p></div><p style="text-align: center;"> </p><p> </p><table style="width: 327.88px; height: 166px; border-collapse: collapse;" border="0" cellspacing="0" cellpadding="0"><tbody><tr style="height: 18pt;"><td style="border: 1pt solid #b3cc82; width: 326.88px; height: 18pt; background-color: #9bbb59;" colspan="2" height="24"><p style="text-align: center;"><strong><span style="color: #595959; font-family: Times New Roman; font-size: large;">Porchfields Trim 12pm</span></strong></p><p style="text-align: center;"><span style="color: #595959; font-family: Times New Roman; font-size: large;">J</span><span style="color: #595959; font-family: Arial; font-size: medium;">uvenile League Distances</span></p></td></tr><tr style="height: 16.2pt;"><td style="border-width: 0px 0px 1pt 1pt; border-style: none none solid solid; border-color: #333333 #333333 #b3cc82 #b3cc82; width: 51px; height: 16.2pt; background-color: #e6eed5;" height="22"><span style="font-family: Times New Roman; font-size: medium;"><strong>Category</strong></span></td><td style="border-width: 0px 1pt 1pt 0px; border-style: none solid solid none; border-color: #333333 #b3cc82 #b3cc82 #333333; width: 275.88px; background-color: #e6eed5;"><span style="font-family: Times New Roman; font-size: medium;"><strong>Distance</strong></span></td></tr><tr style="height: 16.2pt;"><td style="border-width: 0px 0px 1pt 1pt; border-style: none none solid solid; border-color: #333333 #333333 #b3cc82 #b3cc82; width: 51px; height: 16.2pt; background-color: transparent;" height="22"><span style="font-family: Times New Roman; font-size: medium;">U09</span></td><td style="border-width: 0px 1pt 1pt 0px; border-style: none solid solid none; border-color: #333333 #b3cc82 #b3cc82 #333333; width: 275.88px; background-color: transparent;"><span style="font-family: Times New Roman; font-size: medium;">600m</span></td></tr><tr style="height: 16.2pt;"><td style="border-width: 0px 0px 1pt 1pt; border-style: none none solid solid; border-color: #333333 #333333 #b3cc82 #b3cc82; width: 51px; height: 16.2pt; background-color: #e6eed5;" height="22"><span style="font-family: Times New Roman; font-size: medium;">U11</span></td><td style="border-width: 0px 1pt 1pt 0px; border-style: none solid solid none; border-color: #333333 #b3cc82 #b3cc82 #333333; width: 275.88px; background-color: #e6eed5;"><span style="font-family: Times New Roman; font-size: medium;">800m</span></td></tr><tr style="height: 16.2pt;"><td style="border-width: 0px 0px 1pt 1pt; border-style: none none solid solid; border-color: #333333 #333333 #b3cc82 #b3cc82; width: 51px; height: 16.2pt; background-color: transparent;" height="22"><span style="font-family: Times New Roman; font-size: medium;">U13</span></td><td style="border-width: 0px 1pt 1pt 0px; border-style: none solid solid none; border-color: #333333 #b3cc82 #b3cc82 #333333; width: 275.88px; background-color: transparent;"><span style="font-family: Times New Roman; font-size: medium;">1,000m</span></td></tr><tr style="height: 16.2pt;"><td style="border-width: 0px 0px 1pt 1pt; border-style: none none solid solid; border-color: #333333 #333333 #b3cc82 #b3cc82; width: 51px; height: 16.2pt; background-color: #e6eed5;" height="22"><span style="font-family: Times New Roman; font-size: medium;">U15</span></td><td style="border-width: 0px 1pt 1pt 0px; border-style: none solid solid none; border-color: #333333 #b3cc82 #b3cc82 #333333; width: 275.88px; background-color: #e6eed5;"><span style="font-family: Times New Roman; font-size: medium;">2,000m</span></td></tr><tr style="height: 16.2pt;"><td style="border-width: 0px 0px 1pt 1pt; border-style: none none solid solid; border-color: #333333 #333333 #b3cc82 #b3cc82; width: 51px; height: 16.2pt; background-color: transparent;" height="22"><span style="font-family: Times New Roman; font-size: medium;">U17</span></td><td style="border-width: 0px 1pt 1pt 0px; border-style: none solid solid none; border-color: #333333 #b3cc82 #b3cc82 #333333; width: 275.88px; background-color: transparent;"><span style="font-family: Times New Roman; font-size: medium;">3,000m</span></td></tr></tbody></table>
LOCATION:Trim\, County Meath\, Ireland
GEO:53.55236660;-6.78664740
LAST-MODIFIED:20171002T093313Z
X-ACCESS:1
X-HITS:1784
X-URL:
X-COLOR:247D24
END:VEVENT
END:VCALENDAR