BEGIN:VCALENDAR
VERSION:2.0
PRODID:DPCALENDAR
CALSCALE:GREGORIAN
BEGIN:VTIMEZONE
TZID:UTC
X-MICROSOFT-CDO-TZID:0
END:VTIMEZONE
X-WR-TIMEZONE:UTC
BEGIN:VEVENT
DTSTART;TZID=UTC:20171119T120000
DTEND;TZID=UTC:20171119T140000
UID:54282CAB-88A3-4042-8DDD-207D0430FA1E
SUMMARY:Meath Cross Country Relay Championships
DTSTAMP:20161014T095906Z
DESCRIPTION: The Juvenile relays will begin at 12pm the Distances are below.\N \NMixed Senior Cross Country Relays,\NRules:\N1. 2 Male & 2 Female to make a club  team\N2. Each athlete completes no more than 1 1000m leg\N3. Open to all Meath Registered club athletes Only\N4. Open to those born 2001 and Older\N5. Club colours must be worn\N \NEntries Before Wednesday 15th\NLate Entries Up to Friday 17th\N\N\N\NRelay Distances \N\N\NCategory\NDistance\N\N\NU10\N4 x 250m\N\N\NU12\N4 x 250m\N\N\NU14\N4 x 500m\N\N\NU16\N4 x 500m\N\N\NSenior Mixed\N4 x 1000m\N\N\N
X-ALT-DESC;FMTTYPE=text/html:<p> The Juvenile relays will begin at 12pm the Distances are below.</p><p> </p><p>Mixed Senior Cross Country Relays,</p><p>Rules:</p><p>1. 2 Male &amp; 2 Female to make a club  team</p><p>2. Each athlete completes no more than 1 1000m leg</p><p>3. Open to all Meath Registered club athletes Only</p><p>4. Open to those born 2001 and Older</p><p>5. Club colours must be worn</p><p> </p><p>Entries Before Wednesday 15th</p><p>Late Entries Up to Friday 17th</p><table style="width: 202pt; border-collapse: collapse;" border="0" width="270" cellspacing="0" cellpadding="0"><colgroup><col style="width: 101pt; mso-width-source: userset; mso-width-alt: 4807;" span="2" width="135" /></colgroup><tbody><tr style="height: 18pt;"><td style="border: 1pt solid #b3cc82; width: 202pt; height: 18pt; background-color: #9bbb59;" colspan="2" width="270" height="24"><strong><span style="font-family: Arial;"><span style="color: #595959; font-size: medium;">Relay Distances</span><span style="mso-spacerun: yes;"><span style="color: #595959; font-size: medium;"> </span></span></span></strong></td></tr><tr style="height: 16.2pt;"><td style="border-width: 0px 0px 1pt 1pt; border-style: none none solid solid; border-color: #333333 #333333 #b3cc82 #b3cc82; width: 101pt; height: 16.2pt; background-color: #e6eed5;" width="135" height="22"><span style="font-family: Times New Roman; font-size: medium;"><strong>Category</strong></span></td><td style="border-width: 0px 1pt 1pt 0px; border-style: none solid solid none; border-color: #333333 #b3cc82 #b3cc82 #333333; width: 101pt; background-color: #e6eed5;" width="135"><span style="font-family: Times New Roman; font-size: medium;"><strong>Distance</strong></span></td></tr><tr style="height: 16.2pt;"><td style="border-width: 0px 0px 1pt 1pt; border-style: none none solid solid; border-color: #333333 #333333 #b3cc82 #b3cc82; width: 101pt; height: 16.2pt; background-color: transparent;" width="135" height="22"><span style="font-family: Times New Roman; font-size: medium;">U10</span></td><td style="border-width: 0px 1pt 1pt 0px; border-style: none solid solid none; border-color: #333333 #b3cc82 #b3cc82 #333333; width: 101pt; background-color: transparent;" width="135"><span style="font-family: Times New Roman; font-size: medium;">4 x 250m</span></td></tr><tr style="height: 16.2pt;"><td style="border-width: 0px 0px 1pt 1pt; border-style: none none solid solid; border-color: #333333 #333333 #b3cc82 #b3cc82; width: 101pt; height: 16.2pt; background-color: #e6eed5;" width="135" height="22"><span style="font-family: Times New Roman; font-size: medium;">U12</span></td><td style="border-width: 0px 1pt 1pt 0px; border-style: none solid solid none; border-color: #333333 #b3cc82 #b3cc82 #333333; width: 101pt; background-color: #e6eed5;" width="135"><span style="font-family: Times New Roman; font-size: medium;">4 x 250m</span></td></tr><tr style="height: 16.2pt;"><td style="border-width: 0px 0px 1pt 1pt; border-style: none none solid solid; border-color: #333333 #333333 #b3cc82 #b3cc82; width: 101pt; height: 16.2pt; background-color: transparent;" width="135" height="22"><span style="font-family: Times New Roman; font-size: medium;">U14</span></td><td style="border-width: 0px 1pt 1pt 0px; border-style: none solid solid none; border-color: #333333 #b3cc82 #b3cc82 #333333; width: 101pt; background-color: transparent;" width="135"><span style="font-family: Times New Roman; font-size: medium;">4 x 500m</span></td></tr><tr style="height: 16.2pt;"><td style="border-width: 0px 0px 1pt 1pt; border-style: none none solid solid; border-color: #333333 #333333 #b3cc82 #b3cc82; width: 101pt; height: 16.2pt; background-color: #e6eed5;" width="135" height="22"><span style="font-family: Times New Roman; font-size: medium;">U16</span></td><td style="border-width: 0px 1pt 1pt 0px; border-style: none solid solid none; border-color: #333333 #b3cc82 #b3cc82 #333333; width: 101pt; background-color: #e6eed5;" width="135"><span style="font-family: Times New Roman; font-size: medium;">4 x 500m</span></td></tr><tr style="height: 16.2pt;"><td style="border-width: 0px 0px 1pt 1pt; border-style: none none solid solid; border-color: #333333 #333333 #b3cc82 #b3cc82; width: 101pt; height: 16.2pt; background-color: #e6eed5;" width="135" height="22"><span style="font-family: Times New Roman; font-size: medium;">Senior Mixed</span></td><td style="border-width: 0px 1pt 1pt 0px; border-style: none solid solid none; border-color: #333333 #b3cc82 #b3cc82 #333333; width: 101pt; background-color: #e6eed5;" width="135"><span style="font-family: Times New Roman; font-size: medium;">4 x 1000m</span></td></tr></tbody></table>
LOCATION:Proudstown Hill\, County Meath\, Ireland
GEO:53.68067000;-6.67436000
LAST-MODIFIED:20171002T113222Z
X-ACCESS:1
X-HITS:1369
X-URL:http://www.meathathletics.ie
X-COLOR:247D24
END:VEVENT
END:VCALENDAR