BEGIN:VCALENDAR
VERSION:2.0
PRODID:DPCALENDAR
CALSCALE:GREGORIAN
BEGIN:VTIMEZONE
TZID:UTC
X-MICROSOFT-CDO-TZID:0
END:VTIMEZONE
X-WR-TIMEZONE:UTC
BEGIN:VEVENT
DTSTART;VALUE=DATE:20171118
DTEND;VALUE=DATE:20171119
UID:D9AD328D-F167-4817-BCA4-CBDA3871DBEA
SUMMARY:British and Irish Masters Cross Country Championships
DTSTAMP:20161012T100215Z
DESCRIPTION:
X-ALT-DESC;FMTTYPE=text/html:
LOCATION:Commons Road\, Navan\, County Meath\, Ireland
GEO:53.64474790;-6.69998310
LAST-MODIFIED:20171002T133925Z
X-ACCESS:1
X-HITS:989
X-URL:
X-COLOR:7F0FFF
END:VEVENT
END:VCALENDAR