BEGIN:VCALENDAR
VERSION:2.0
PRODID:DPCALENDAR
CALSCALE:GREGORIAN
BEGIN:VTIMEZONE
TZID:UTC
X-MICROSOFT-CDO-TZID:0
END:VTIMEZONE
X-WR-TIMEZONE:UTC
BEGIN:VEVENT
DTSTART;TZID=UTC:20171217T110000
DTEND;TZID=UTC:20171217T140000
UID:3DFE90CE-F119-4CC2-A2D4-50813734B337
SUMMARY:National Championships Uneven ages & Novice
DTSTAMP:20161003T110913Z
DESCRIPTION:
X-ALT-DESC;FMTTYPE=text/html:
LOCATION:Commons Road\, Navan\, County Meath\, Ireland
GEO:53.64474790;-6.69998310
LAST-MODIFIED:20171002T124541Z
X-ACCESS:1
X-HITS:1112
X-URL:www.athleticsireland.ie
X-COLOR:FF8707
END:VEVENT
END:VCALENDAR