BEGIN:VCALENDAR
VERSION:2.0
PRODID:DPCALENDAR
CALSCALE:GREGORIAN
BEGIN:VTIMEZONE
TZID:UTC
X-MICROSOFT-CDO-TZID:0
END:VTIMEZONE
X-WR-TIMEZONE:UTC
BEGIN:VEVENT
DTSTART;TZID=UTC:20171126T110000
DTEND;TZID=UTC:20171126T140000
UID:0BB8CD75-E9C5-445A-B20D-57F377B83F4C
SUMMARY:National Championships Even ages, Junior & Senior
DTSTAMP:20161003T110913Z
DESCRIPTION:
X-ALT-DESC;FMTTYPE=text/html:
LOCATION:Snugborough Road\, Dublin\, County Dublin\, Ireland
GEO:53.39816660;-6.37075040
LAST-MODIFIED:20171002T124444Z
X-ACCESS:1
X-HITS:1103
X-URL:http://www.athleticsireland.ie
X-COLOR:FF8707
END:VEVENT
END:VCALENDAR